
BEGIN:VCALENDAR
VERSION:2.0
PRODID:-//eventon.com NONSGML v1.0//EN
BEGIN:VEVENT
UID:69e76582eb63d
DTSTAMP:20260421T135442
DTSTART:20260423T220000Z
DTEND:20260424T215900Z
LOCATION:
SUMMARY:Albumrelease "Ich wär´so gern schon in der Nähe von Woanders"
DESCRIPTION: Es ist so weit! Insinas Debütalbum ist da. Zwischen der ersten Studio-Session 2023 und der letzten im März dieses Jahres lag ganz schön viel Leben: Eine Weiterbildung\,  die Gründung des SUPERZART* Festivals am SchauSpielHaus in Hamburg\,  eine zweijährige Pansinusitis und eine Welt\,  die an allen Ecken und Enden brennt. Der[..]
END:VEVENT
END:VCALENDAR