
BEGIN:VCALENDAR
VERSION:2.0
PRODID:-//eventon.com NONSGML v1.0//EN
BEGIN:VEVENT
UID:69e7633d95d08
DTSTAMP:20260421T134501
DTSTART:20260521T180000Z
DTEND:20260521T215000Z
LOCATION:Filmtheater Schauburg Dresden Königsbrücker Straße 55 
SUMMARY:Dresden - Science Slam
DESCRIPTION: Wie läuft ein Science Slam ab? Zehn Minuten haben die Slammer/innen Zeit\,  um ihr Forschungsgebiet und -projekt dem Publikum näherzubringen. Zehn Minuten\,  in denen sie komplexe Themen anschaulich und unterhaltsam erklären. Kurz\,  knackig\,  wissenschaftlich korrekt. Das Publikum bildet zugleich die Jury\,  die den Sieger des Abends kürt. Welche/r Slammer/in hat[..]
END:VEVENT
END:VCALENDAR