
BEGIN:VCALENDAR
VERSION:2.0
PRODID:-//eventon.com NONSGML v1.0//EN
BEGIN:VEVENT
UID:69e76480090b1
DTSTAMP:20260421T135024
DTSTART:20260513T170000Z
DTEND:20260513T215000Z
LOCATION:Deutsches Bergbau Museum Am Bergbaumuseum 28 
SUMMARY:Bochum - Science Slam
DESCRIPTION: Wie läuft ein Science Slam ab? Zehn Minuten haben die Slammer/innen Zeit\,  um ihr Forschungsgebiet und -projekt dem Publikum näherzubringen. Zehn Minuten\,  in denen sie komplexe Themen anschaulich und unterhaltsam erklären. Kurz\,  knackig\,  wissenschaftlich korrekt. Das Publikum bildet zugleich die Jury\,  die den Sieger des Abends kürt. Welche/r Slammer/in hat[..]
END:VEVENT
END:VCALENDAR