
BEGIN:VCALENDAR
VERSION:2.0
PRODID:-//eventon.com NONSGML v1.0//EN
BEGIN:VEVENT
UID:69e764405f782
DTSTAMP:20260421T134920
DTSTART:20260614T180000Z
DTEND:20260614T201500Z
LOCATION:Zollhaus in Leer Bahnhofsring 4\,  26789 Leer
SUMMARY:Leer - Releasekonzert "Ich wär´so gern schon in der Nähe von Woanders"
DESCRIPTION: Endlich ist es so weit: Insinas Debütalbum „Ich wär’ so gern schon in der Nähe von Woanders“ ist erschienen – und möchte nun live mit Publikum geteilt werden. Die ersten Aufnahmen entstanden bereits 2023\,  die letzten im März 2026. Dazwischen lag viel Leben: eine Weiterbildung\,  die Gründung des SUPERZART* Festivals[..]
END:VEVENT
END:VCALENDAR