
BEGIN:VCALENDAR
VERSION:2.0
PRODID:-//eventon.com NONSGML v1.0//EN
BEGIN:VEVENT
UID:69e762f3d32b2
DTSTAMP:20260421T134347
DTSTART:20260529T180000Z
DTEND:20260529T201500Z
LOCATION:Im Deck 2 Hafenbrücke 1\,  21614 Buxtehude
SUMMARY:Buxtehude - Releasekonzert "Ich wär´so gern schon in der Nähe von Woanders"
DESCRIPTION: Endlich ist es so weit: Insinas Debütalbum „Ich wär’ so gern schon in der Nähe von Woanders“ ist erschienen – und möchte nun live mit Publikum geteilt werden. Die ersten Aufnahmen entstanden bereits 2023\,  die letzten im März 2026. Dazwischen lag viel Leben: eine Weiterbildung\,  die Gründung des SUPERZART* Festivals[..]
END:VEVENT
END:VCALENDAR