
BEGIN:VCALENDAR
VERSION:2.0
PRODID:-//eventon.com NONSGML v1.0//EN
BEGIN:VEVENT
UID:69e7628ea8e22
DTSTAMP:20260421T134206
DTSTART:20260609T170000Z
DTEND:20260609T191500Z
LOCATION:Körberhaus KörberHaus Holzhude 1 21029 Hamburg
SUMMARY:Hamburg - Körberstiftung - Moderation Tech for Society Slam: Digitale Resilienz
DESCRIPTION: Digitale Technologien helfen uns\,  in einer alternden Gesellschaft handlungsfähig zu bleiben. Beim Tech for Society Slam präsentieren Forschende in unterhaltsamen Slams ihre neuesten Projekte. Am Ende entscheidet ihr\,  wessen Performance überzeugt. Mit dabei: Björn Staschen vom Digital Independence Day. Durch den Abend führt Insina Lüschen. Technologischer Fortschritt ist mehr als[..]
END:VEVENT
END:VCALENDAR