
BEGIN:VCALENDAR
VERSION:2.0
PRODID:-//eventon.com NONSGML v1.0//EN
BEGIN:VEVENT
UID:69e763b1d8c53
DTSTAMP:20260421T134657
DTSTART:20260808T130000Z
DTEND:20260808T210000Z
LOCATION:Schlossplatz Braunschweig 
SUMMARY:CSD Braunschweig - Moderation
DESCRIPTION: Dieses Jahr veranstalten wir den CSD Braunschweig vom 25.07. bis 09.08.2025 mit Rahmenprogramm\,  Demo\,  Kundgebung\,  Straßenfest und Abschluss-Party. Der Höhepunkt wird dabei das CSD-Wochenende am 07. und 08.08.2026 sein. Das Orga-Team hat bereits mit der Planung begonnen\,  über den aktuellen Stand werden wir regelmäßig auf dieser Webseite informieren. von der[..]
END:VEVENT
END:VCALENDAR