
BEGIN:VCALENDAR
VERSION:2.0
PRODID:-//eventon.com NONSGML v1.0//EN
BEGIN:VEVENT
UID:69e763d152c94
DTSTAMP:20260421T134729
DTSTART:20261104T180000Z
DTEND:20261104T215000Z
LOCATION:Uebel und Gefährlich Feldstraße 66\,  20359 Hamburg
SUMMARY:Hamburg - Science Slam
DESCRIPTION: Wie läuft ein Science Slam ab? Zehn Minuten haben die Slammer/innen Zeit\,  um ihr Forschungsgebiet und -projekt dem Publikum näherzubringen. Zehn Minuten\,  in denen sie komplexe Themen anschaulich und unterhaltsam erklären. Kurz\,  knackig\,  wissenschaftlich korrekt. Das Publikum bildet zugleich die Jury\,  die den Sieger des Abends kürt. Welche/r Slammer/in hat[..]
END:VEVENT
END:VCALENDAR