
BEGIN:VCALENDAR
VERSION:2.0
PRODID:-//eventon.com NONSGML v1.0//EN
BEGIN:VEVENT
UID:69e7645141208
DTSTAMP:20260421T134937
DTSTART:20260628T170000Z
DTEND:20260628T215000Z
LOCATION:Zollhaus in Leer Bahnhofsring 4\,  26789 Leer
SUMMARY:Westerstede - Meckerkring - PLATTFORMANCE
DESCRIPTION: Der Meckerkring\,  der einzige plattdeutsche Beschwerdechor. DIE PLATTFORMANCE Für diesen Abend in Kooperation mit dem Programm: "Demokratie leben"\,  haben wir ein neues Genre erfunden – um uns performativ und chorisch mit den Menschenrechten und Artikel 1 unseres Grundgesetzes auseinanderzusetzen: die PLATTFORMANCE! Besonders in diesem Jahr 2023\,  in dem  wir „75[..]
END:VEVENT
END:VCALENDAR