
BEGIN:VCALENDAR
VERSION:2.0
PRODID:-//eventon.com NONSGML v1.0//EN
BEGIN:VEVENT
UID:69e763625ab4c
DTSTAMP:20260421T134538
DTSTART:20260604T180000Z
DTEND:20260604T215000Z
LOCATION:Laeiszhalle https://www.scienceslam.de\,  Johannes-Brahms-Platz\,  20355 Hamburg
SUMMARY:Hamburg - Science Slam
DESCRIPTION: Wie läuft ein Science Slam ab? Zehn Minuten haben die Slammer/innen Zeit\,  um ihr Forschungsgebiet und -projekt dem Publikum näherzubringen. Zehn Minuten\,  in denen sie komplexe Themen anschaulich und unterhaltsam erklären. Kurz\,  knackig\,  wissenschaftlich korrekt. Das Publikum bildet zugleich die Jury\,  die den Sieger des Abends kürt. Welche/r Slammer/in hat[..]
END:VEVENT
END:VCALENDAR