
BEGIN:VCALENDAR
VERSION:2.0
PRODID:-//eventon.com NONSGML v1.0//EN
BEGIN:VEVENT
UID:69e7628e8072a
DTSTAMP:20260421T134206
DTSTART:20260830T173000Z
DTEND:20260830T215000Z
LOCATION:Alte Ziegelei Westerholt 
SUMMARY:Westerholt/Wardenburg - Meckerkring
DESCRIPTION: Der Meckerkring\,  der einzige plattdeutsche Beschwerdechor. Nach finnischen Beschwerdechor-Vorbild bündeln wir unsere Energien und Talente und sammeln unsere Beschwerden und Gedanken\,  um sie in selbstkomponierten Songs und eigenen Texten auf die Bühne zu bringen. Musikalisch\,  authentisch\,  überraschend\,  schockierend\,  augenzwinkernd\,  nachdenklich und ehrlich\,  schimpfen und fluchen wir mal laut und mal[..]
END:VEVENT
END:VCALENDAR