
BEGIN:VCALENDAR
VERSION:2.0
PRODID:-//eventon.com NONSGML v1.0//EN
BEGIN:VEVENT
UID:69e762ce38af7
DTSTAMP:20260421T134310
DTSTART:20260606T133000Z
DTEND:20260606T215000Z
LOCATION:
SUMMARY:Meckerkring - Demokratiewochenende Oldenburg
DESCRIPTION: Der Meckerkring\,  der einzige plattdeutsche Beschwerdechor. Nach finnischen Beschwerdechor-Vorbild bündeln wir unsere Energien und Talente und sammeln unsere Beschwerden und Gedanken\,  um sie in selbstkomponierten Songs und eigenen Texten auf die Bühne zu bringen. Musikalisch\,  authentisch\,  überraschend\,  schockierend\,  augenzwinkernd\,  nachdenklich und ehrlich\,  schimpfen und fluchen wir mal laut und mal[..]
END:VEVENT
END:VCALENDAR