
BEGIN:VCALENDAR
VERSION:2.0
PRODID:-//eventon.com NONSGML v1.0//EN
BEGIN:VEVENT
UID:69e76318c99e3
DTSTAMP:20260421T134424
DTSTART:20261115T220000Z
DTEND:20261121T215900Z
LOCATION:
SUMMARY:Klassenreise zur Musik
DESCRIPTION: Auf den „Klassenreisen zur Musik“ haben dritte Klassen die Möglichkeit innerhalb einer Woche ein Mini-Musical einzustudieren\,  das zum Abschluss der Reise für die Eltern und Freund*innen aufgeführt wird. Die Kinder bekommen in dieser Woche einen Einblick in die Bereiche Gesang\,  Tanz\,  Schauspiel und Percussion\,  können sich ausprobieren und Musik für[..]
END:VEVENT
END:VCALENDAR