
BEGIN:VCALENDAR
VERSION:2.0
PRODID:-//eventon.com NONSGML v1.0//EN
BEGIN:VEVENT
UID:69e764acc4ad4
DTSTAMP:20260421T135108
DTSTART:20260512T180000Z
DTEND:20260512T215000Z
LOCATION:Im Kasch Bergstraße 2 – 28832 Achim
SUMMARY:Dat Platt Pack
DESCRIPTION: Sabine Hermann     Die Deichgranaten      Yared Dibaba Plattdeutsch im Pack mit drei Größen des Nordens: Die Deichgranaten\,  Sabine Hermann und Yared Dibaba kommen\,  um Plattdeutsch zu feiern. Da treffen vier starke Stimmen aufeinander: DAT PLATT PACK bringt alles zusammen\,  was in der niederdeutschen Kultur Spaß macht\,  bewegt und[..]
END:VEVENT
END:VCALENDAR