
BEGIN:VCALENDAR
VERSION:2.0
PRODID:-//eventon.com NONSGML v1.0//EN
BEGIN:VEVENT
UID:69e7638be2898
DTSTAMP:20260421T134619
DTSTART:20260522T180000Z
DTEND:20260522T215000Z
LOCATION:Kulturzentrum Schlachthof Bremen Findorffstr. 51 28215 Bremen
SUMMARY:Bremen - Science Slam
DESCRIPTION: Wie läuft ein Science Slam ab? Zehn Minuten haben die Slammer/innen Zeit\,  um ihr Forschungsgebiet und -projekt dem Publikum näherzubringen. Zehn Minuten\,  in denen sie komplexe Themen anschaulich und unterhaltsam erklären. Kurz\,  knackig\,  wissenschaftlich korrekt. Das Publikum bildet zugleich die Jury\,  die den Sieger des Abends kürt. Welche/r Slammer/in hat[..]
END:VEVENT
END:VCALENDAR