
BEGIN:VCALENDAR
VERSION:2.0
PRODID:-//eventon.com NONSGML v1.0//EN
BEGIN:VEVENT
UID:69e765614a294
DTSTAMP:20260421T135409
DTSTART:20260414T170000Z
DTEND:20260414T191500Z
LOCATION:Körberhaus KörberHaus Holzhude 1 21029 Hamburg
SUMMARY:Hamburg - Körberstiftung - Moderation des Podiums - Zu alt oder unersetzlich? Berufstätige Frauen 50+
DESCRIPTION: Warum gelten Frauen ab 50 auf dem Arbeitsmarkt noch als Risiko? Die Moderatorin Insina Lüschen diskutiert mit Autor Richard Kaan\,  Digitalexpertin Maren Heltsche\,  Organisationsentwicklerin Verena Fritzsche\,  Genderforscherin Miriam Beblo und Senatorin Melanie Schlotzhauer über Diskriminierung\,  Machtstrukturen und politische Veränderung. Warum sind so viele Frauen ab 50 plötzlich unsichtbar\,  sobald sie[..]
END:VEVENT
END:VCALENDAR