
BEGIN:VCALENDAR
VERSION:2.0
PRODID:-//eventon.com NONSGML v1.0//EN
BEGIN:VEVENT
UID:69e9fbfc052d6
DTSTAMP:20260423T130116
DTSTART:20240303T220000Z
DTEND:20240309T215900Z
LOCATION:Rothleimmühle Nordhausen Parkallee 2\,  99734 Nordhausen
SUMMARY:Klassenreise zur Musik
DESCRIPTION: Auf den „Klassenreisen zur Musik“ haben dritte Klassen die Möglichkeit innerhalb einer Woche ein Mini-Musical einzustudieren\,  das zum Abschluss der Reise für die Eltern und Freund*innen aufgeführt wird. Die Kinder bekommen in dieser Woche einen Einblick in die Bereiche Gesang\,  Tanz\,  Schauspiel und Percussion\,  können sich ausprobieren und Musik für[..]
END:VEVENT
END:VCALENDAR